BEGIN:VCALENDAR
VERSION:2.0
PRODID:-//wp-events-plugin.com//7.2.3.1//EN
TZID:Europe/Berlin
X-WR-TIMEZONE:Europe/Berlin
BEGIN:VEVENT
UID:485@mv-elchingen.de
DTSTART;TZID=Europe/Berlin:20230808T200000
DTEND;TZID=Europe/Berlin:20230808T220000
DTSTAMP:20230628T101151Z
URL:https://mv-elchingen.de/events/zusatzprobe-3/
SUMMARY:Zusatzprobe - 08.08.2023 - 20:00 - 22:00
DESCRIPTION:Modern
CATEGORIES:Musiker - intern
END:VEVENT
BEGIN:VTIMEZONE
TZID:Europe/Berlin
X-LIC-LOCATION:Europe/Berlin
BEGIN:DAYLIGHT
DTSTART:20230326T030000
TZOFFSETFROM:+0100
TZOFFSETTO:+0200
TZNAME:CEST
END:DAYLIGHT
END:VTIMEZONE
END:VCALENDAR