BEGIN:VCALENDAR
VERSION:2.0
PRODID:-//wp-events-plugin.com//7.2.3.1//EN
TZID:Europe/Berlin
X-WR-TIMEZONE:Europe/Berlin
BEGIN:VEVENT
UID:494@mv-elchingen.de
DTSTART;TZID=Europe/Berlin:20240512T190000
DTEND;TZID=Europe/Berlin:20240512T230000
DTSTAMP:20231112T214814Z
URL:https://mv-elchingen.de/events/zapfenstreich-dunstelkingen/
SUMMARY:Zapfenstreich Dunstelkingen - 12.05.2024 - 19:00 - 23:00
DESCRIPTION:
CATEGORIES:Musiker - intern,Öffentlich
END:VEVENT
BEGIN:VTIMEZONE
TZID:Europe/Berlin
X-LIC-LOCATION:Europe/Berlin
BEGIN:DAYLIGHT
DTSTART:20240331T030000
TZOFFSETFROM:+0100
TZOFFSETTO:+0200
TZNAME:CEST
END:DAYLIGHT
END:VTIMEZONE
END:VCALENDAR