BEGIN:VCALENDAR
VERSION:2.0
PRODID:-//wp-events-plugin.com//7.2.3.1//EN
TZID:Europe/Berlin
X-WR-TIMEZONE:Europe/Berlin
BEGIN:VEVENT
UID:107@mv-elchingen.de
DTSTART;TZID=Europe/Berlin:20181215T080000
DTEND;TZID=Europe/Berlin:20181215T170000
DTSTAMP:20180428T134920Z
URL:https://mv-elchingen.de/events/weihnachtsfeier-juka-2/
SUMMARY:Weihnachtsfeier Juka - 15.12.2018 - 8:00 - 17:00
DESCRIPTION:
CATEGORIES:Musiker - intern
END:VEVENT
BEGIN:VTIMEZONE
TZID:Europe/Berlin
X-LIC-LOCATION:Europe/Berlin
BEGIN:STANDARD
DTSTART:20181028T020000
TZOFFSETFROM:+0200
TZOFFSETTO:+0100
TZNAME:CET
END:STANDARD
END:VTIMEZONE
END:VCALENDAR