BEGIN:VCALENDAR
VERSION:2.0
PRODID:-//wp-events-plugin.com//7.2.3.1//EN
TZID:Europe/Berlin
X-WR-TIMEZONE:Europe/Berlin
BEGIN:VEVENT
UID:106@mv-elchingen.de
DTSTART;TZID=Europe/Berlin:20181214T190000
DTEND;TZID=Europe/Berlin:20181214T230000
DTSTAMP:20181009T204134Z
URL:https://mv-elchingen.de/events/weihnachtsfeier-aktive-2/
SUMMARY:Weihnachtsfeier Aktive - 14.12.2018 - 19:00 - 23:00
DESCRIPTION:Im Pfarrgemeindeheim
CATEGORIES:Musiker - intern
END:VEVENT
BEGIN:VTIMEZONE
TZID:Europe/Berlin
X-LIC-LOCATION:Europe/Berlin
BEGIN:STANDARD
DTSTART:20181028T020000
TZOFFSETFROM:+0200
TZOFFSETTO:+0100
TZNAME:CET
END:STANDARD
END:VTIMEZONE
END:VCALENDAR