BEGIN:VCALENDAR
VERSION:2.0
PRODID:-//wp-events-plugin.com//7.2.3.1//EN
TZID:Europe/Berlin
X-WR-TIMEZONE:Europe/Berlin
BEGIN:VEVENT
UID:399@mv-elchingen.de
DTSTART;TZID=Europe/Berlin:20240908T100000
DTEND;TZID=Europe/Berlin:20240908T223000
DTSTAMP:20240703T153630Z
URL:https://mv-elchingen.de/events/umzug-heimat-tage-neresheim/
SUMMARY:Frühschoppen + Umzug + Zapfenstreich (Serenade) Heimat-Tage Neresh
 eim - 08.09.2024 - 10:00 - 22:30
DESCRIPTION:10 Uhr Frühschoppen im Festzelt\nca. 14 Uhr Umzug\nca. 20 Uhr 
 Zapfenstreichen (wir spielen nur die Serenade mit Neresheim u. Dorfmerking
 en)\n
CATEGORIES:Musiker - intern,Öffentlich
END:VEVENT
BEGIN:VTIMEZONE
TZID:Europe/Berlin
X-LIC-LOCATION:Europe/Berlin
BEGIN:DAYLIGHT
DTSTART:20240331T030000
TZOFFSETFROM:+0100
TZOFFSETTO:+0200
TZNAME:CEST
END:DAYLIGHT
END:VTIMEZONE
END:VCALENDAR