BEGIN:VCALENDAR
VERSION:2.0
PRODID:-//wp-events-plugin.com//7.2.3.1//EN
TZID:Europe/Berlin
X-WR-TIMEZONE:Europe/Berlin
BEGIN:VEVENT
UID:400@mv-elchingen.de
DTSTART;TZID=Europe/Berlin:20220804T200000
DTEND;TZID=Europe/Berlin:20220804T220000
DTSTAMP:20220802T053825Z
URL:https://mv-elchingen.de/events/sitzung-um-musikantenstadl/
SUMMARY:Sitzung um Musikantenstadl - 04.08.2022 - 20:00 - 22:00
DESCRIPTION:
CATEGORIES:Vorstandschaft
END:VEVENT
BEGIN:VTIMEZONE
TZID:Europe/Berlin
X-LIC-LOCATION:Europe/Berlin
BEGIN:DAYLIGHT
DTSTART:20220327T030000
TZOFFSETFROM:+0100
TZOFFSETTO:+0200
TZNAME:CEST
END:DAYLIGHT
END:VTIMEZONE
END:VCALENDAR