BEGIN:VCALENDAR
VERSION:2.0
PRODID:-//wp-events-plugin.com//7.2.3.1//EN
TZID:Europe/Berlin
X-WR-TIMEZONE:Europe/Berlin
BEGIN:VEVENT
UID:396@mv-elchingen.de
DTSTART;TZID=Europe/Berlin;VALUE=DATE:20220802
DTEND;TZID=Europe/Berlin;VALUE=DATE:20220810
DTSTAMP:20220623T143008Z
URL:https://mv-elchingen.de/events/mve-anhaenger-ausgeliehen-ueber-stefan-
 bolsinger/
SUMMARY:[MVE Anhänger ] ausgeliehen (über Stefan Bolsinger) - 02.08.2022 
 - 09.08.2022 - Ganztägig
DESCRIPTION:
CATEGORIES:Musikantenstadl
END:VEVENT
BEGIN:VTIMEZONE
TZID:Europe/Berlin
X-LIC-LOCATION:Europe/Berlin
BEGIN:DAYLIGHT
DTSTART:20220327T030000
TZOFFSETFROM:+0100
TZOFFSETTO:+0200
TZNAME:CEST
END:DAYLIGHT
END:VTIMEZONE
END:VCALENDAR