BEGIN:VCALENDAR
VERSION:2.0
PRODID:-//wp-events-plugin.com//7.2.3.1//EN
TZID:Europe/Berlin
X-WR-TIMEZONE:Europe/Berlin
BEGIN:VEVENT
UID:496@mv-elchingen.de
DTSTART;TZID=Europe/Berlin;VALUE=DATE:20230902
DTEND;TZID=Europe/Berlin;VALUE=DATE:20230903
DTSTAMP:20230810T091141Z
URL:https://mv-elchingen.de/events/musikantenstadl-sophie/
SUMMARY:[Musikantenstadl] Sophie (Empore) - 02.09.2023 - Ganztägig
DESCRIPTION:
CATEGORIES:Musikantenstadl
END:VEVENT
BEGIN:VTIMEZONE
TZID:Europe/Berlin
X-LIC-LOCATION:Europe/Berlin
BEGIN:DAYLIGHT
DTSTART:20230326T030000
TZOFFSETFROM:+0100
TZOFFSETTO:+0200
TZNAME:CEST
END:DAYLIGHT
END:VTIMEZONE
END:VCALENDAR