BEGIN:VCALENDAR
VERSION:2.0
PRODID:-//wp-events-plugin.com//7.2.3.1//EN
TZID:Europe/Berlin
X-WR-TIMEZONE:Europe/Berlin
BEGIN:VEVENT
UID:495@mv-elchingen.de
DTSTART;TZID=Europe/Berlin;VALUE=DATE:20240518
DTEND;TZID=Europe/Berlin;VALUE=DATE:20240519
DTSTAMP:20231027T142040Z
URL:https://mv-elchingen.de/events/musikantenstadl-ronny-wonneberger/
SUMMARY:[Musikantenstadl] 1.fc KÖLN-FANCLUB WILDER SÜDEN e.V. - 18.05.202
 4 - Ganztägig
DESCRIPTION:
CATEGORIES:Musikantenstadl
END:VEVENT
BEGIN:VTIMEZONE
TZID:Europe/Berlin
X-LIC-LOCATION:Europe/Berlin
BEGIN:DAYLIGHT
DTSTART:20240331T030000
TZOFFSETFROM:+0100
TZOFFSETTO:+0200
TZNAME:CEST
END:DAYLIGHT
END:VTIMEZONE
END:VCALENDAR