BEGIN:VCALENDAR
VERSION:2.0
PRODID:-//wp-events-plugin.com//7.2.3.1//EN
TZID:Europe/Berlin
X-WR-TIMEZONE:Europe/Berlin
BEGIN:VEVENT
UID:397@mv-elchingen.de
DTSTART;TZID=Europe/Berlin;VALUE=DATE:20220917
DTEND;TZID=Europe/Berlin;VALUE=DATE:20220919
DTSTAMP:20220624T063132Z
URL:https://mv-elchingen.de/events/musikantenstadl-flugplatzfest-parkplatz
 nutzung/
SUMMARY:[Musikantenstadl] FLugplatzfest > Parkplatznutzung - 17.09.2022 - 1
 8.09.2022 - Ganztägig
DESCRIPTION:
CATEGORIES:Musikantenstadl
END:VEVENT
BEGIN:VTIMEZONE
TZID:Europe/Berlin
X-LIC-LOCATION:Europe/Berlin
BEGIN:DAYLIGHT
DTSTART:20220327T030000
TZOFFSETFROM:+0100
TZOFFSETTO:+0200
TZNAME:CEST
END:DAYLIGHT
END:VTIMEZONE
END:VCALENDAR