BEGIN:VCALENDAR
VERSION:2.0
PRODID:-//wp-events-plugin.com//7.2.3.1//EN
TZID:Europe/Berlin
X-WR-TIMEZONE:Europe/Berlin
BEGIN:VEVENT
UID:401@mv-elchingen.de
DTSTART;TZID=Europe/Berlin;VALUE=DATE:20230624
DTEND;TZID=Europe/Berlin;VALUE=DATE:20230625
DTSTAMP:20220819T062900Z
URL:https://mv-elchingen.de/events/musikantenstadl-anfrage-hochzeit-denis-
 verena-beisswenger/
SUMMARY:[Musikantenstadl] Hochzeit Denis & Verena Beißwenger - 24.06.2023 
 - Ganztägig
DESCRIPTION:
CATEGORIES:Musikantenstadl
END:VEVENT
BEGIN:VTIMEZONE
TZID:Europe/Berlin
X-LIC-LOCATION:Europe/Berlin
BEGIN:DAYLIGHT
DTSTART:20230326T030000
TZOFFSETFROM:+0100
TZOFFSETTO:+0200
TZNAME:CEST
END:DAYLIGHT
END:VTIMEZONE
END:VCALENDAR