BEGIN:VCALENDAR
VERSION:2.0
PRODID:-//wp-events-plugin.com//7.2.3.1//EN
TZID:Europe/Berlin
X-WR-TIMEZONE:Europe/Berlin
BEGIN:VEVENT
UID:110@mv-elchingen.de
DTSTART;TZID=Europe/Berlin:20180407T173000
DTEND;TZID=Europe/Berlin:20180407T203000
DTSTAMP:20171201T131032Z
URL:https://mv-elchingen.de/events/mitgestaltung-einer-messe/
SUMMARY:Mitgestaltung einer Messe - 07.04.2018 - 17:30 - 20:30
DESCRIPTION:St. Otmar Elchingen
CATEGORIES:Musiker - intern,Öffentlich
END:VEVENT
BEGIN:VTIMEZONE
TZID:Europe/Berlin
X-LIC-LOCATION:Europe/Berlin
BEGIN:DAYLIGHT
DTSTART:20180325T030000
TZOFFSETFROM:+0100
TZOFFSETTO:+0200
TZNAME:CEST
END:DAYLIGHT
END:VTIMEZONE
END:VCALENDAR