BEGIN:VCALENDAR
VERSION:2.0
PRODID:-//wp-events-plugin.com//7.2.3.1//EN
TZID:Europe/Berlin
X-WR-TIMEZONE:Europe/Berlin
BEGIN:VEVENT
UID:105@mv-elchingen.de
DTSTART;TZID=Europe/Berlin:20181208T193000
DTEND;TZID=Europe/Berlin:20181208T230000
DTSTAMP:20180402T192327Z
URL:https://mv-elchingen.de/events/jahreskonzert-3/
SUMMARY:Jahreskonzert - 08.12.2018 - 19:30 - 23:00
DESCRIPTION:Gastkapelle: Neuler
CATEGORIES:Musiker - intern,Öffentlich
END:VEVENT
BEGIN:VTIMEZONE
TZID:Europe/Berlin
X-LIC-LOCATION:Europe/Berlin
BEGIN:STANDARD
DTSTART:20181028T020000
TZOFFSETFROM:+0200
TZOFFSETTO:+0100
TZNAME:CET
END:STANDARD
END:VTIMEZONE
END:VCALENDAR